BEGIN:VCALENDAR
VERSION:2.0
PRODID:-//Working Equitation  Southeast VA - ECPv6.15.20//NONSGML v1.0//EN
CALSCALE:GREGORIAN
METHOD:PUBLISH
X-WR-CALNAME:Working Equitation  Southeast VA
X-ORIGINAL-URL:https://workingequitationva.com
X-WR-CALDESC:Events for Working Equitation  Southeast VA
REFRESH-INTERVAL;VALUE=DURATION:PT1H
X-Robots-Tag:noindex
X-PUBLISHED-TTL:PT1H
BEGIN:VTIMEZONE
TZID:America/New_York
BEGIN:DAYLIGHT
TZOFFSETFROM:-0500
TZOFFSETTO:-0400
TZNAME:EDT
DTSTART:20220313T070000
END:DAYLIGHT
BEGIN:STANDARD
TZOFFSETFROM:-0400
TZOFFSETTO:-0500
TZNAME:EST
DTSTART:20221106T060000
END:STANDARD
BEGIN:DAYLIGHT
TZOFFSETFROM:-0500
TZOFFSETTO:-0400
TZNAME:EDT
DTSTART:20230312T070000
END:DAYLIGHT
BEGIN:STANDARD
TZOFFSETFROM:-0400
TZOFFSETTO:-0500
TZNAME:EST
DTSTART:20231105T060000
END:STANDARD
BEGIN:DAYLIGHT
TZOFFSETFROM:-0500
TZOFFSETTO:-0400
TZNAME:EDT
DTSTART:20240310T070000
END:DAYLIGHT
BEGIN:STANDARD
TZOFFSETFROM:-0400
TZOFFSETTO:-0500
TZNAME:EST
DTSTART:20241103T060000
END:STANDARD
END:VTIMEZONE
BEGIN:VEVENT
DTSTART;TZID=America/New_York:20231104T080000
DTEND;TZID=America/New_York:20231104T170000
DTSTAMP:20260425T225018
CREATED:20231017T161955Z
LAST-MODIFIED:20231017T165617Z
UID:1087620-1699084800-1699117200@workingequitationva.com
SUMMARY:WESEVA Schooling Show
DESCRIPTION:  \nEntries close 48 hours prior to event start. You may enter multiple horses but must fill out a separate form for each horse/rider combination.\nIntro (L1) includes dressage and EOH only. Novice (L2) and above is Dressage EOH and Speed. \n			\n				\n				\n				\n				\n				Entries closed. We're holding this event every month on the first Saturday! Email amie@workingequitationva.com if you want to get on a wait list for this event or if you'd like to volunteer!
URL:https://workingequitationva.com/event/weseva-schooling-show/
LOCATION:The Horse Park at Gryphon Run\, 2520 Number Ten Lane\, Chesapeake\, VA\, 23323\, United States
CATEGORIES:Schooling Show
ATTACH;FMTTYPE=image/jpeg:https://workingequitationva.com/wp-content/uploads/2023/10/amie-help-with-introduction-to-spear-the-bull.jpg
ORGANIZER;CN="WESEVA":MAILTO:amie@workingequitationva.com
END:VEVENT
BEGIN:VEVENT
DTSTART;TZID=America/New_York:20231104T100000
DTEND;TZID=America/New_York:20231104T140000
DTSTAMP:20260425T225018
CREATED:20231102T232314Z
LAST-MODIFIED:20231105T165210Z
UID:1087670-1699092000-1699106400@workingequitationva.com
SUMMARY:Nov 4 Play Date
DESCRIPTION:Obstacle Play Days\n			\n				\n				\n				\n				\n				Come join us for some guided practice time with USAWE regulation obstacles and dressage arena! \nThe Horse Park at Gryphon Run has a full range of obstacles available and we’re excited to join with Amy Geuy inviting you to bring your horse and spend some low key time working through some or all of them! Amie Perryman\, USAWE “L” judge candidate will be available to help answer questions regarding the rules of execution\, competition and coaching if needed! You are welcome to bring your friends and even your trainer. All breeds and disciplines are welcome in Working Equitation! \n  \n  \n			\n			\n				\n				\n				\n				\n			\n				\n				\n			\n				\n				\n				\n				\n				\n				\n				\n				\n				\n				\n				\n				\n				\n				\n				\n				\n				\n				If you want to ride a test\, we can also schedule a time to practice your USAWE test! We are looking forward to bringing many more events like this as well as clinics and schooling shows to the Southeastern VA region! \n			\n			\n				\n				\n				\n				\n				\n				\n				\n				\n				\n				\n			\n				\n				\n				\n				\n				USAWE DRESSAGE TESTS \n			\n			\n				\n				\n				\n				\n			\n				\n				\n			\n				\n				\n				\n				\n				\n				\n				\n				\n				\n				\n				\n				\n				\n				\n				\n				\n				\n				\n				\n				\n					\n                \n				\n				\n				\n				\n				\n				\n				\n					\n				\n				\n				\n              Pen And Rounding Posts  \n			\n				\n			\n				\n				\n				\n				\n				\n				\n				\n					\n				\n				\n				\n              Gate and Jump  \n			\n				\n			\n				\n				\n				\n				\n				\n				\n				\n					\n				\n				\n				\n              Bell Corridor  \n			\n				\n			\n				\n				\n				\n				\n				\n				\n				\n					\n				\n				\n				\n              Single Slolam  \n			\n				\n			\n				\n				\n				\n				\n				\n				\n				\n					\n				\n				\n				\n              Barrels and Sidepass Poles  \n			\n				\n			\n				\n				\n				\n				\n				\n				\n				\n					\n				\n				\n				\n              Bull
URL:https://workingequitationva.com/event/nov-4-play-date/
LOCATION:The Horse Park at Gryphon Run\, 2520 Number Ten Lane\, Chesapeake\, VA\, 23323\, United States
CATEGORIES:Obstacle Play Day
ORGANIZER;CN="WESEVA":MAILTO:amie@workingequitationva.com
END:VEVENT
BEGIN:VEVENT
DTSTART;TZID=America/New_York:20231105T080000
DTEND;TZID=America/New_York:20231105T170000
DTSTAMP:20260425T225018
CREATED:20231105T165552Z
LAST-MODIFIED:20231105T165555Z
UID:1087679-1699171200-1699203600@workingequitationva.com
SUMMARY:Special Event
DESCRIPTION:Obstacle Play Days\n			\n				\n				\n				\n				\n				Come join us for some guided practice time with USAWE regulation obstacles and dressage arena! \nThe Horse Park at Gryphon Run has a full range of obstacles available and we’re excited to join with Amy Geuy inviting you to bring your horse and spend some low key time working through some or all of them! Amie Perryman\, USAWE “L” judge candidate will be available to help answer questions regarding the rules of execution\, competition and coaching if needed! You are welcome to bring your friends and even your trainer. All breeds and disciplines are welcome in Working Equitation! \n  \n  \n			\n			\n				\n				\n				\n				\n			\n				\n				\n			\n				\n				\n				\n				\n				\n				\n				\n				\n				\n				\n				\n				\n				\n				\n				\n				\n				\n				If you want to ride a test\, we can also schedule a time to practice your USAWE test! We are looking forward to bringing many more events like this as well as clinics and schooling shows to the Southeastern VA region! \n			\n			\n				\n				\n				\n				\n				\n				\n				\n				\n				\n				\n			\n				\n				\n				\n				\n				USAWE DRESSAGE TESTS \n			\n			\n				\n				\n				\n				\n			\n				\n				\n			\n				\n				\n				\n				\n				\n				\n				\n				\n				\n				\n				\n				\n				\n				\n				\n				\n				\n				\n				\n				\n					\n                \n				\n				\n				\n				\n				\n				\n				\n					\n				\n				\n				\n              Pen And Rounding Posts  \n			\n				\n			\n				\n				\n				\n				\n				\n				\n				\n					\n				\n				\n				\n              Gate and Jump  \n			\n				\n			\n				\n				\n				\n				\n				\n				\n				\n					\n				\n				\n				\n              Bell Corridor  \n			\n				\n			\n				\n				\n				\n				\n				\n				\n				\n					\n				\n				\n				\n              Single Slolam  \n			\n				\n			\n				\n				\n				\n				\n				\n				\n				\n					\n				\n				\n				\n              Barrels and Sidepass Poles  \n			\n				\n			\n				\n				\n				\n				\n				\n				\n				\n					\n				\n				\n				\n              Bull
URL:https://workingequitationva.com/event/special-event/
LOCATION:VA
END:VEVENT
BEGIN:VEVENT
DTSTART;TZID=America/New_York:20231125T080000
DTEND;TZID=America/New_York:20231125T170000
DTSTAMP:20260425T225018
CREATED:20231121T024205Z
LAST-MODIFIED:20231121T024851Z
UID:1087712-1700899200-1700931600@workingequitationva.com
SUMMARY:Obstacle Play Day with Special Guest Richard Williams for Dressage With Purpose!
DESCRIPTION:Obstacle Play Days\n			\n				\n				\n				\n				\n				Come join us for some guided practice time with USAWE regulation obstacles and dressage arena! \nThe Horse Park at Gryphon Run has a full range of obstacles available and we’re excited to join with Amy Geuy inviting you to bring your horse and spend some low key time working through some or all of them! Amie Perryman\, USAWE “L” judge candidate will be available to help answer questions regarding the rules of execution\, competition and coaching if needed! You are welcome to bring your friends and even your trainer. All breeds and disciplines are welcome in Working Equitation! \n  \n  \n			\n			\n				\n				\n				\n				\n			\n				\n				\n			\n				\n				\n				\n				\n				\n				\n				\n				\n				\n				\n				\n				\n				\n				\n				\n				\n				\n				This week\, we are delighted to host Richard Williams for the morning as he gives private dressage lessons that will help develop skills to be applied to our afternoon of Working Equitation Obstacles! If you want to ride a test\, we can also schedule a time to practice your USAWE test! We are looking forward to bringing many more events like this as well as clinics and schooling shows to the Southeastern VA region! \n			\n			\n				\n				\n				\n				\n				\n				\n				\n				\n				\n				\n			\n				\n				\n				\n				\n				USAWE DRESSAGE TESTS \n			\n			\n				\n				\n				\n				\n			\n				\n				\n			\n				\n				\n				\n				\n				\n				\n				\n				\n				\n				\n				\n				\n				\n				\n				\n				\n				\n				\n				\n				\n					\n                \n				\n				\n				\n				\n				\n				\n				\n					\n				\n				\n				\n              Pen And Rounding Posts  \n			\n				\n			\n				\n				\n				\n				\n				\n				\n				\n					\n				\n				\n				\n              Gate and Jump  \n			\n				\n			\n				\n				\n				\n				\n				\n				\n				\n					\n				\n				\n				\n              Bell Corridor  \n			\n				\n			\n				\n				\n				\n				\n				\n				\n				\n					\n				\n				\n				\n              Single Slolam  \n			\n				\n			\n				\n				\n				\n				\n				\n				\n				\n					\n				\n				\n				\n              Barrels and Sidepass Poles  \n			\n				\n			\n				\n				\n				\n				\n				\n				\n				\n					\n				\n				\n				\n              Bull
URL:https://workingequitationva.com/event/obstacle-play-day-with-special-guest-richard-williams-for-dressage-with-purpose/
LOCATION:The Horse Park at Gryphon Run\, 2520 Number Ten Lane\, Chesapeake\, VA\, 23323\, United States
CATEGORIES:Obstacle Play Day
ORGANIZER;CN="WESEVA":MAILTO:amie@workingequitationva.com
END:VEVENT
BEGIN:VEVENT
DTSTART;TZID=America/New_York:20231125T120000
DTEND;TZID=America/New_York:20231125T170000
DTSTAMP:20260425T225018
CREATED:20231109T161002Z
LAST-MODIFIED:20231109T161005Z
UID:1087688-1700913600-1700931600@workingequitationva.com
SUMMARY:Nov 25 Dressage and Obstacle Play Day
DESCRIPTION:Obstacle Play Days\n			\n				\n				\n				\n				\n				Come join us for some guided practice time with USAWE regulation obstacles and dressage arena! \nThe Horse Park at Gryphon Run has a full range of obstacles available and we’re excited to join with Amy Geuy inviting you to bring your horse and spend some low key time working through some or all of them! Amie Perryman\, USAWE “L” judge candidate will be available to help answer questions regarding the rules of execution\, competition and coaching if needed! You are welcome to bring your friends and even your trainer. All breeds and disciplines are welcome in Working Equitation! \n  \n  \n			\n			\n				\n				\n				\n				\n			\n				\n				\n			\n				\n				\n				\n				\n				\n				\n				\n				\n				\n				\n				\n				\n				\n				\n				\n				\n				\n				If you want to ride a test\, we can also schedule a time to practice your USAWE test! We are looking forward to bringing many more events like this as well as clinics and schooling shows to the Southeastern VA region! \n			\n			\n				\n				\n				\n				\n				\n				\n				\n				\n				\n				\n			\n				\n				\n				\n				\n				USAWE DRESSAGE TESTS \n			\n			\n				\n				\n				\n				\n			\n				\n				\n			\n				\n				\n				\n				\n				\n				\n				\n				\n				\n				\n				\n				\n				\n				\n				\n				\n				\n				\n				\n				\n					\n                \n				\n				\n				\n				\n				\n				\n				\n					\n				\n				\n				\n              Pen And Rounding Posts  \n			\n				\n			\n				\n				\n				\n				\n				\n				\n				\n					\n				\n				\n				\n              Gate and Jump  \n			\n				\n			\n				\n				\n				\n				\n				\n				\n				\n					\n				\n				\n				\n              Bell Corridor  \n			\n				\n			\n				\n				\n				\n				\n				\n				\n				\n					\n				\n				\n				\n              Single Slolam  \n			\n				\n			\n				\n				\n				\n				\n				\n				\n				\n					\n				\n				\n				\n              Barrels and Sidepass Poles  \n			\n				\n			\n				\n				\n				\n				\n				\n				\n				\n					\n				\n				\n				\n              Bull
URL:https://workingequitationva.com/event/nov-25-dressage-and-obstacle-play-day/
LOCATION:The Horse Park at Gryphon Run\, 2520 Number Ten Lane\, Chesapeake\, VA\, 23323\, United States
CATEGORIES:Obstacle Play Day
ORGANIZER;CN="WESEVA":MAILTO:amie@workingequitationva.com
END:VEVENT
END:VCALENDAR