BEGIN:VCALENDAR
VERSION:2.0
PRODID:-//Working Equitation  Southeast VA - ECPv6.15.20//NONSGML v1.0//EN
CALSCALE:GREGORIAN
METHOD:PUBLISH
X-ORIGINAL-URL:https://workingequitationva.com
X-WR-CALDESC:Events for Working Equitation  Southeast VA
REFRESH-INTERVAL;VALUE=DURATION:PT1H
X-Robots-Tag:noindex
X-PUBLISHED-TTL:PT1H
BEGIN:VTIMEZONE
TZID:America/New_York
BEGIN:DAYLIGHT
TZOFFSETFROM:-0500
TZOFFSETTO:-0400
TZNAME:EDT
DTSTART:20220313T070000
END:DAYLIGHT
BEGIN:STANDARD
TZOFFSETFROM:-0400
TZOFFSETTO:-0500
TZNAME:EST
DTSTART:20221106T060000
END:STANDARD
BEGIN:DAYLIGHT
TZOFFSETFROM:-0500
TZOFFSETTO:-0400
TZNAME:EDT
DTSTART:20230312T070000
END:DAYLIGHT
BEGIN:STANDARD
TZOFFSETFROM:-0400
TZOFFSETTO:-0500
TZNAME:EST
DTSTART:20231105T060000
END:STANDARD
BEGIN:DAYLIGHT
TZOFFSETFROM:-0500
TZOFFSETTO:-0400
TZNAME:EDT
DTSTART:20240310T070000
END:DAYLIGHT
BEGIN:STANDARD
TZOFFSETFROM:-0400
TZOFFSETTO:-0500
TZNAME:EST
DTSTART:20241103T060000
END:STANDARD
END:VTIMEZONE
BEGIN:VEVENT
DTSTART;TZID=America/New_York:20231007T080000
DTEND;TZID=America/New_York:20231008T170000
DTSTAMP:20260426T002905
CREATED:20230926T152616Z
LAST-MODIFIED:20230927T153004Z
UID:1087541-1696665600-1696784400@workingequitationva.com
SUMMARY:Oct 7 Working Equitation Clinic and Oct 8 Schooling Show
DESCRIPTION:Hosted by: \nThe Horse Park at Gryphon Run 2520 Number Ten Lane\, Chesapeake\, VA\n\n\n\n\nYou may enter the whole weekend or any part thereof. \nClinic is Saturday Oct 7 and will begin with dressage in AM. Groups of up to 4 riders at similar levels. \n60 to 90 minute session with Amie Perryman are $50 per horse/rider combination. \n\nObstacle clinic is Saturday Oct 7 will be in the afternoon Same groups as the AM.  \n60 to 90 minute session with Amie Perryman. You may ride in both AM and PM or either. $50 per horse/rider combination (for the PM Obstacle session only). \n\nYou may also ride both AM and PM for a reduced rate of $85 per horse/rider combination. \n\nSchooling Show entries – if you choose to ride only in the schooling show the fee is: \nL1 – Intro (walk/trot dressage and EOH – no speed at this level)   $95 \nL2-L4 Novice A\, Novice B and Intermediate A:                              $125 \n  \n			\n				\n				\n				\n				\n				Enter Both Days | Clinic and Schooling Show and SAVE!Entry includes dressage lesson Sat AM\, Obstacle lesson Sat PM and entry into the Schooling Show Sunday. \nIntro: $165 \nNovice/Intermediate: $195 \n*Does not include Stabling/stall but all entries DO include trailer in/park fee. \n				\n			\n				\n				\n				\n				\n				Entries closed.
URL:https://workingequitationva.com/event/oct-7-working-equitation-clinic-and-oct-8-schooling-show/
LOCATION:The Horse Park at Gryphon Run\, 2520 Number Ten Lane\, Chesapeake\, VA\, 23323\, United States
CATEGORIES:Clinic,Schooling Show
ORGANIZER;CN="WESEVA":MAILTO:amie@workingequitationva.com
END:VEVENT
END:VCALENDAR