BEGIN:VCALENDAR
VERSION:2.0
PRODID:-//Working Equitation  Southeast VA - ECPv6.15.20//NONSGML v1.0//EN
CALSCALE:GREGORIAN
METHOD:PUBLISH
X-WR-CALNAME:Working Equitation  Southeast VA
X-ORIGINAL-URL:https://workingequitationva.com
X-WR-CALDESC:Events for Working Equitation  Southeast VA
REFRESH-INTERVAL;VALUE=DURATION:PT1H
X-Robots-Tag:noindex
X-PUBLISHED-TTL:PT1H
BEGIN:VTIMEZONE
TZID:America/New_York
BEGIN:DAYLIGHT
TZOFFSETFROM:-0500
TZOFFSETTO:-0400
TZNAME:EDT
DTSTART:20220313T070000
END:DAYLIGHT
BEGIN:STANDARD
TZOFFSETFROM:-0400
TZOFFSETTO:-0500
TZNAME:EST
DTSTART:20221106T060000
END:STANDARD
BEGIN:DAYLIGHT
TZOFFSETFROM:-0500
TZOFFSETTO:-0400
TZNAME:EDT
DTSTART:20230312T070000
END:DAYLIGHT
BEGIN:STANDARD
TZOFFSETFROM:-0400
TZOFFSETTO:-0500
TZNAME:EST
DTSTART:20231105T060000
END:STANDARD
BEGIN:DAYLIGHT
TZOFFSETFROM:-0500
TZOFFSETTO:-0400
TZNAME:EDT
DTSTART:20240310T070000
END:DAYLIGHT
BEGIN:STANDARD
TZOFFSETFROM:-0400
TZOFFSETTO:-0500
TZNAME:EST
DTSTART:20241103T060000
END:STANDARD
END:VTIMEZONE
BEGIN:VEVENT
DTSTART;TZID=America/New_York:20230930T100000
DTEND;TZID=America/New_York:20230930T140000
DTSTAMP:20260423T081843
CREATED:20230927T143040Z
LAST-MODIFIED:20230927T143044Z
UID:1087561-1696068000-1696082400@workingequitationva.com
SUMMARY:Obstacle Play Day Sat Sept 30
DESCRIPTION:Obstacle Play Days\n			\n				\n				\n				\n				\n				Come join us for some guided practice time with USAWE regulation obstacles and dressage arena! \nThe Horse Park at Gryphon Run has a full range of obstacles available and we’re excited to join with Amy Geuy inviting you to bring your horse and spend some low key time working through some or all of them! Amie Perryman\, USAWE “L” judge candidate will be available to help answer questions regarding the rules of execution\, competition and coaching if needed! You are welcome to bring your friends and even your trainer. All breeds and disciplines are welcome in Working Equitation! \n  \n  \n			\n			\n				\n				\n				\n				\n			\n				\n				\n			\n				\n				\n				\n				\n				\n				\n				\n				\n				\n				\n				\n				\n				\n				\n				\n				\n				\n				If you want to ride a test\, we can also schedule a time to practice your USAWE test! We are looking forward to bringing many more events like this as well as clinics and schooling shows to the Southeastern VA region! \n			\n			\n				\n				\n				\n				\n				\n				\n				\n				\n				\n				\n			\n				\n				\n				\n				\n				USAWE DRESSAGE TESTS \n			\n			\n				\n				\n				\n				\n			\n				\n				\n			\n				\n				\n				\n				\n				\n				\n				\n				\n				\n				\n				\n				\n				\n				\n				\n				\n				\n				\n				\n				\n					\n                \n				\n				\n				\n				\n				\n				\n				\n					\n				\n				\n				\n              Pen And Rounding Posts  \n			\n				\n			\n				\n				\n				\n				\n				\n				\n				\n					\n				\n				\n				\n              Gate and Jump  \n			\n				\n			\n				\n				\n				\n				\n				\n				\n				\n					\n				\n				\n				\n              Bell Corridor  \n			\n				\n			\n				\n				\n				\n				\n				\n				\n				\n					\n				\n				\n				\n              Single Slolam  \n			\n				\n			\n				\n				\n				\n				\n				\n				\n				\n					\n				\n				\n				\n              Barrels and Sidepass Poles  \n			\n				\n			\n				\n				\n				\n				\n				\n				\n				\n					\n				\n				\n				\n              Bull
URL:https://workingequitationva.com/event/obstacle-play-day-sept-30/
LOCATION:The Horse Park at Gryphon Run\, 2520 Number Ten Lane\, Chesapeake\, VA\, 23323\, United States
CATEGORIES:Obstacle Play Day
ORGANIZER;CN="WESEVA":MAILTO:amie@workingequitationva.com
END:VEVENT
BEGIN:VEVENT
DTSTART;TZID=America/New_York:20230917T100000
DTEND;TZID=America/New_York:20230917T140000
DTSTAMP:20260423T081844
CREATED:20230911T145008Z
LAST-MODIFIED:20230911T145012Z
UID:1087492-1694944800-1694959200@workingequitationva.com
SUMMARY:Sunday Sept 17 Play Day!
DESCRIPTION:Obstacle Play Days\n			\n				\n				\n				\n				\n				Come join us for some guided practice time with USAWE regulation obstacles and dressage arena! \nThe Horse Park at Gryphon Run has a full range of obstacles available and we’re excited to join with Amy Geuy inviting you to bring your horse and spend some low key time working through some or all of them! Amie Perryman\, USAWE “L” judge candidate will be available to help answer questions regarding the rules of execution\, competition and coaching if needed! You are welcome to bring your friends and even your trainer. All breeds and disciplines are welcome in Working Equitation! \n  \n  \n			\n			\n				\n				\n				\n				\n			\n				\n				\n			\n				\n				\n				\n				\n				\n				\n				\n				\n				\n				\n				\n				\n				\n				\n				\n				\n				\n				If you want to ride a test\, we can also schedule a time to practice your USAWE test! We are looking forward to bringing many more events like this as well as clinics and schooling shows to the Southeastern VA region! \n			\n			\n				\n				\n				\n				\n				\n				\n				\n				\n				\n				\n			\n				\n				\n				\n				\n				USAWE DRESSAGE TESTS \n			\n			\n				\n				\n				\n				\n			\n				\n				\n			\n				\n				\n				\n				\n				\n				\n				\n				\n				\n				\n				\n				\n				\n				\n				\n				\n				\n				\n				\n				\n					\n                \n				\n				\n				\n				\n				\n				\n				\n					\n				\n				\n				\n              Pen And Rounding Posts  \n			\n				\n			\n				\n				\n				\n				\n				\n				\n				\n					\n				\n				\n				\n              Gate and Jump  \n			\n				\n			\n				\n				\n				\n				\n				\n				\n				\n					\n				\n				\n				\n              Bell Corridor  \n			\n				\n			\n				\n				\n				\n				\n				\n				\n				\n					\n				\n				\n				\n              Single Slolam  \n			\n				\n			\n				\n				\n				\n				\n				\n				\n				\n					\n				\n				\n				\n              Barrels and Sidepass Poles  \n			\n				\n			\n				\n				\n				\n				\n				\n				\n				\n					\n				\n				\n				\n              Bull
URL:https://workingequitationva.com/event/sunday-sept-17-playday/
LOCATION:The Horse Park at Gryphon Run\, 2520 Number Ten Lane\, Chesapeake\, VA\, 23323\, United States
CATEGORIES:Obstacle Play Day
ORGANIZER;CN="WESEVA":MAILTO:amie@workingequitationva.com
END:VEVENT
BEGIN:VEVENT
DTSTART;TZID=America/New_York:20230813T080000
DTEND;TZID=America/New_York:20230813T080000
DTSTAMP:20260423T081844
CREATED:20230808T182625Z
LAST-MODIFIED:20230808T182745Z
UID:1087480-1691913600-1691913600@workingequitationva.com
SUMMARY:Sun Aug 13 Obstacle Play Day
DESCRIPTION:Obstacle Play Days\n			\n				\n				\n				\n				\n				Come join us for some guided practice time with USAWE regulation obstacles and dressage arena! \nThe Horse Park at Gryphon Run has a full range of obstacles available and we’re excited to join with Amy Geuy inviting you to bring your horse and spend some low key time working through some or all of them! Amie Perryman\, USAWE “L” judge candidate will be available to help answer questions regarding the rules of execution\, competition and coaching if needed! You are welcome to bring your friends and even your trainer. All breeds and disciplines are welcome in Working Equitation! \n  \n  \n			\n			\n				\n				\n				\n				\n			\n				\n				\n			\n				\n				\n				\n				\n				\n				\n				\n				\n				\n				\n				\n				\n				\n				\n				\n				\n				\n				If you want to ride a test\, we can also schedule a time to practice your USAWE test! We are looking forward to bringing many more events like this as well as clinics and schooling shows to the Southeastern VA region! \n			\n			\n				\n				\n				\n				\n				\n				\n				\n				\n				\n				\n			\n				\n				\n				\n				\n				USAWE DRESSAGE TESTS \n			\n			\n				\n				\n				\n				\n			\n				\n				\n			\n				\n				\n				\n				\n				\n				\n				\n				\n				\n				\n				\n				\n				\n				\n				\n				\n				\n				\n				\n				\n					\n                \n				\n				\n				\n				\n				\n				\n				\n					\n				\n				\n				\n              Pen And Rounding Posts  \n			\n				\n			\n				\n				\n				\n				\n				\n				\n				\n					\n				\n				\n				\n              Gate and Jump  \n			\n				\n			\n				\n				\n				\n				\n				\n				\n				\n					\n				\n				\n				\n              Bell Corridor  \n			\n				\n			\n				\n				\n				\n				\n				\n				\n				\n					\n				\n				\n				\n              Single Slolam  \n			\n				\n			\n				\n				\n				\n				\n				\n				\n				\n					\n				\n				\n				\n              Barrels and Sidepass Poles  \n			\n				\n			\n				\n				\n				\n				\n				\n				\n				\n					\n				\n				\n				\n              Bull
URL:https://workingequitationva.com/event/sun-aug-13-obstacle-play-day/
LOCATION:The Horse Park at Gryphon Run\, 2520 Number Ten Lane\, Chesapeake\, VA\, 23323\, United States
CATEGORIES:Obstacle Play Day
ORGANIZER;CN="WESEVA":MAILTO:amie@workingequitationva.com
END:VEVENT
BEGIN:VEVENT
DTSTART;TZID=America/New_York:20230812T080000
DTEND;TZID=America/New_York:20230812T120000
DTSTAMP:20260423T081844
CREATED:20230808T181658Z
LAST-MODIFIED:20230808T181701Z
UID:1087471-1691827200-1691841600@workingequitationva.com
SUMMARY:Sat Aug 12 Obstacle Play Day
DESCRIPTION:Obstacle Play Days\n			\n				\n				\n				\n				\n				Come join us for some guided practice time with USAWE regulation obstacles and dressage arena! \nThe Horse Park at Gryphon Run has a full range of obstacles available and we’re excited to join with Amy Geuy inviting you to bring your horse and spend some low key time working through some or all of them! Amie Perryman\, USAWE “L” judge candidate will be available to help answer questions regarding the rules of execution\, competition and coaching if needed! You are welcome to bring your friends and even your trainer. All breeds and disciplines are welcome in Working Equitation! \n  \n  \n			\n			\n				\n				\n				\n				\n			\n				\n				\n			\n				\n				\n				\n				\n				\n				\n				\n				\n				\n				\n				\n				\n				\n				\n				\n				\n				\n				If you want to ride a test\, we can also schedule a time to practice your USAWE test! We are looking forward to bringing many more events like this as well as clinics and schooling shows to the Southeastern VA region! \n			\n			\n				\n				\n				\n				\n				\n				\n				\n				\n				\n				\n			\n				\n				\n				\n				\n				USAWE DRESSAGE TESTS \n			\n			\n				\n				\n				\n				\n			\n				\n				\n			\n				\n				\n				\n				\n				\n				\n				\n				\n				\n				\n				\n				\n				\n				\n				\n				\n				\n				\n				\n				\n					\n                \n				\n				\n				\n				\n				\n				\n				\n					\n				\n				\n				\n              Pen And Rounding Posts  \n			\n				\n			\n				\n				\n				\n				\n				\n				\n				\n					\n				\n				\n				\n              Gate and Jump  \n			\n				\n			\n				\n				\n				\n				\n				\n				\n				\n					\n				\n				\n				\n              Bell Corridor  \n			\n				\n			\n				\n				\n				\n				\n				\n				\n				\n					\n				\n				\n				\n              Single Slolam  \n			\n				\n			\n				\n				\n				\n				\n				\n				\n				\n					\n				\n				\n				\n              Barrels and Sidepass Poles  \n			\n				\n			\n				\n				\n				\n				\n				\n				\n				\n					\n				\n				\n				\n              Bull
URL:https://workingequitationva.com/event/aug-12-play-day/
LOCATION:The Horse Park at Gryphon Run\, 2520 Number Ten Lane\, Chesapeake\, VA\, 23323\, United States
CATEGORIES:Obstacle Play Day
ORGANIZER;CN="WESEVA":MAILTO:amie@workingequitationva.com
END:VEVENT
BEGIN:VEVENT
DTSTART;TZID=America/New_York:20230723T070000
DTEND;TZID=America/New_York:20230723T110000
DTSTAMP:20260423T081844
CREATED:20230718T131714Z
LAST-MODIFIED:20230718T131746Z
UID:1087462-1690095600-1690110000@workingequitationva.com
SUMMARY:Sunday July 23 Obstacle Play Day
DESCRIPTION:Obstacle Play Days\n			\n				\n				\n				\n				\n				Come join us for some guided practice time with USAWE regulation obstacles and dressage arena! \nThe Horse Park at Gryphon Run has a full range of obstacles available and we’re excited to join with Amy Geuy inviting you to bring your horse and spend some low key time working through some or all of them! Amie Perryman\, USAWE “L” judge candidate will be available to help answer questions regarding the rules of execution\, competition and coaching if needed! You are welcome to bring your friends and even your trainer. All breeds and disciplines are welcome in Working Equitation! \n  \n  \n			\n			\n				\n				\n				\n				\n			\n				\n				\n			\n				\n				\n				\n				\n				\n				\n				\n				\n				\n				\n				\n				\n				\n				\n				\n				\n				\n				If you want to ride a test\, we can also schedule a time to practice your USAWE test! We are looking forward to bringing many more events like this as well as clinics and schooling shows to the Southeastern VA region! \n			\n			\n				\n				\n				\n				\n				\n				\n				\n				\n				\n				\n			\n				\n				\n				\n				\n				USAWE DRESSAGE TESTS \n			\n			\n				\n				\n				\n				\n			\n				\n				\n			\n				\n				\n				\n				\n				\n				\n				\n				\n				\n				\n				\n				\n				\n				\n				\n				\n				\n				\n				\n				\n					\n                \n				\n				\n				\n				\n				\n				\n				\n					\n				\n				\n				\n              Pen And Rounding Posts  \n			\n				\n			\n				\n				\n				\n				\n				\n				\n				\n					\n				\n				\n				\n              Gate and Jump  \n			\n				\n			\n				\n				\n				\n				\n				\n				\n				\n					\n				\n				\n				\n              Bell Corridor  \n			\n				\n			\n				\n				\n				\n				\n				\n				\n				\n					\n				\n				\n				\n              Single Slolam  \n			\n				\n			\n				\n				\n				\n				\n				\n				\n				\n					\n				\n				\n				\n              Barrels and Sidepass Poles  \n			\n				\n			\n				\n				\n				\n				\n				\n				\n				\n					\n				\n				\n				\n              Bull
URL:https://workingequitationva.com/event/sunday-july-23-obstacle-play-day/
LOCATION:The Horse Park at Gryphon Run\, 2520 Number Ten Lane\, Chesapeake\, VA\, 23323\, United States
CATEGORIES:Obstacle Play Day
ORGANIZER;CN="WESEVA":MAILTO:amie@workingequitationva.com
END:VEVENT
BEGIN:VEVENT
DTSTART;TZID=America/New_York:20230630T100000
DTEND;TZID=America/New_York:20230630T140000
DTSTAMP:20260423T081844
CREATED:20230612T193406Z
LAST-MODIFIED:20230624T141320Z
UID:1087449-1688119200-1688133600@workingequitationva.com
SUMMARY:Obstacle Play Day June 30
DESCRIPTION:Obstacle Play Days\n			\n				\n				\n				\n				\n				Come join us for some guided practice time with USAWE regulation obstacles and dressage arena! \nThe Horse Park at Gryphon Run has a full range of obstacles available and we’re excited to join with Amy Geuy inviting you to bring your horse and spend some low key time working through some or all of them! Amie Perryman\, USAWE “L” judge candidate will be available to help answer questions regarding the rules of execution\, competition and coaching if needed! You are welcome to bring your friends and even your trainer. All breeds and disciplines are welcome in Working Equitation! \n  \n  \n			\n			\n				\n				\n				\n				\n			\n				\n				\n			\n				\n				\n				\n				\n				\n				\n				\n				\n				\n				\n				\n				\n				\n				\n				\n				\n				\n				If you want to ride a test\, we can also schedule a time to practice your USAWE test! We are looking forward to bringing many more events like this as well as clinics and schooling shows to the Southeastern VA region! \n			\n			\n				\n				\n				\n				\n				\n				\n				\n				\n				\n				\n			\n				\n				\n				\n				\n				USAWE DRESSAGE TESTS \n			\n			\n				\n				\n				\n				\n			\n				\n				\n			\n				\n				\n				\n				\n				\n				\n				\n				\n				\n				\n				\n				\n				\n				\n				\n				\n				\n				\n				\n				\n					\n                \n				\n				\n				\n				\n				\n				\n				\n					\n				\n				\n				\n              Pen And Rounding Posts  \n			\n				\n			\n				\n				\n				\n				\n				\n				\n				\n					\n				\n				\n				\n              Gate and Jump  \n			\n				\n			\n				\n				\n				\n				\n				\n				\n				\n					\n				\n				\n				\n              Bell Corridor  \n			\n				\n			\n				\n				\n				\n				\n				\n				\n				\n					\n				\n				\n				\n              Single Slolam  \n			\n				\n			\n				\n				\n				\n				\n				\n				\n				\n					\n				\n				\n				\n              Barrels and Sidepass Poles  \n			\n				\n			\n				\n				\n				\n				\n				\n				\n				\n					\n				\n				\n				\n              Bull
URL:https://workingequitationva.com/event/obstacle-play-day-june-30/
LOCATION:The Horse Park at Gryphon Run\, 2520 Number Ten Lane\, Chesapeake\, VA\, 23323\, United States
CATEGORIES:Obstacle Play Day
ORGANIZER;CN="WESEVA":MAILTO:amie@workingequitationva.com
END:VEVENT
BEGIN:VEVENT
DTSTART;TZID=America/New_York:20230610T090000
DTEND;TZID=America/New_York:20230610T170000
DTSTAMP:20260423T081844
CREATED:20230210T140039Z
LAST-MODIFIED:20230606T130039Z
UID:11-1686387600-1686416400@workingequitationva.com
SUMMARY:WE Clinic with Holly Linz
DESCRIPTION:Working Equitation Ease of Handling (EOH/obstacles) and dressage ride-a-test with \nUSAWE Coach Holly Linz and \nUSAWE L judge candidate\, Amie Perryman\n			\n				\n				\n				\n				\n				Holly Linz of KeepStables LLC \n \n			\n			\n				\n				\n				\n				\n				\n				\n				\n				\n				\n				\n					\n					\n						Learn USA WE rules and practice tests!\n						\nAll ages and levels welcome\n4 Groups of 2-4 riders for 90 min session\n\n2 in the AM and 2 in the PM\nIntro (walk/trot)\nNovice (must be comfortable at canter)\n\n\n\nGroup lessons with Holly\, before or after which you can schedule a time to ride-a-test with Amie in the outdoor dressage arena weather permitting\, for additional $10.
URL:https://workingequitationva.com/event/we-clinic-with-holly-linz/
LOCATION:Sea Horse Run Farm\, 2733 Whaleyville Rd\, Suffolk\, VA\, United States
CATEGORIES:Clinic
ATTACH;FMTTYPE=image/png:https://workingequitationva.com/wp-content/uploads/2023/01/1-Blue-sky-farm-WE-clinic-holly.png
ORGANIZER;CN="WESEVA":MAILTO:amie@workingequitationva.com
END:VEVENT
BEGIN:VEVENT
DTSTART;TZID=America/New_York:20230603T100000
DTEND;TZID=America/New_York:20230603T140000
DTSTAMP:20260423T081844
CREATED:20230525T144513Z
LAST-MODIFIED:20230525T150230Z
UID:1087348-1685786400-1685800800@workingequitationva.com
SUMMARY:Obstacle Play Day June 3
DESCRIPTION:Obstacle Play Days\n			\n				\n				\n				\n				\n				Come join us for some guided practice time with USAWE regulation obstacles and dressage arena! \nThe Horse Park at Gryphon Run has a full range of obstacles available and we’re excited to join with Amy Geuy inviting you to bring your horse and spend some low key time working through some or all of them! Amie Perryman\, USAWE “L” judge candidate will be available to help answer questions regarding the rules of execution\, competition and coaching if needed! You are welcome to bring your friends and even your trainer. All breeds and disciplines are welcome in Working Equitation! \n  \n  \n			\n			\n				\n				\n				\n				\n			\n				\n				\n			\n				\n				\n				\n				\n				\n				\n				\n				\n				\n				\n				\n				\n				\n				\n				\n				\n				\n				If you want to ride a test\, we can also schedule a time to practice your USAWE test! We are looking forward to bringing many more events like this as well as clinics and schooling shows to the Southeastern VA region! \n			\n			\n				\n				\n				\n				\n				\n				\n				\n				\n				\n				\n			\n				\n				\n				\n				\n				USAWE DRESSAGE TESTS \n			\n			\n				\n				\n				\n				\n			\n				\n				\n			\n				\n				\n				\n				\n				\n				\n				\n				\n				\n				\n				\n				\n				\n				\n				\n				\n				\n				\n				\n				\n					\n                \n				\n				\n				\n				\n				\n				\n				\n					\n				\n				\n				\n              Pen And Rounding Posts  \n			\n				\n			\n				\n				\n				\n				\n				\n				\n				\n					\n				\n				\n				\n              Gate and Jump  \n			\n				\n			\n				\n				\n				\n				\n				\n				\n				\n					\n				\n				\n				\n              Bell Corridor  \n			\n				\n			\n				\n				\n				\n				\n				\n				\n				\n					\n				\n				\n				\n              Single Slolam  \n			\n				\n			\n				\n				\n				\n				\n				\n				\n				\n					\n				\n				\n				\n              Barrels and Sidepass Poles  \n			\n				\n			\n				\n				\n				\n				\n				\n				\n				\n					\n				\n				\n				\n              Bull
URL:https://workingequitationva.com/event/obstacle-play-day-june-3/
LOCATION:The Horse Park at Gryphon Run\, 2520 Number Ten Lane\, Chesapeake\, VA\, 23323\, United States
CATEGORIES:Obstacle Play Day
ORGANIZER;CN="WESEVA":MAILTO:amie@workingequitationva.com
END:VEVENT
BEGIN:VEVENT
DTSTART;TZID=America/New_York:20230527T090000
DTEND;TZID=America/New_York:20230527T170000
DTSTAMP:20260423T081844
CREATED:20230220T183925Z
LAST-MODIFIED:20230525T154251Z
UID:257-1685178000-1685206800@workingequitationva.com
SUMMARY:UPDATE! WE Clinic at Knight's Branch Farm with Stephanie Jennings May 27
DESCRIPTION:EVENT/SCHEDULE CHANGE: due to low participation numbers\, we’ve been unable to keep Stephanie on this agenda. However\, Amie Perryman will be able to do the Obstacle and the Dressage phases of the clinic in her place!\nStephanie Jennings is back in SE Virginia! Come join us at Knight’s Branch Farm for a weekend of FUN  Working Equitation\, trail rides and camping… all weekend if you want! \nThis is a ONE day clinic with Stephanie. ONLY 16 slots available so BOOK EARLY! There are many options and ADDONS so if you have any questions\, please feel free to call Amie 352-209-0068! \nClinic will be Four sessions of approximately 90 minutes each on Ease of Handling (obstacles) for Working Equitation according to USAWE rules and guidelines. You do NOT have to be a member to attend!!!  BUT\, please look into joining if you want to become part of the fastest growing equestrian discipline in the US! http://usawe.org \nOptional dressage “Ride-a-Test” with Amie Perryman. NO extra charge\, just schedule a time to practice your test\, get scored and review it! \nStay all day\, come the night before…stay all weekend and enjoy the trails and potluck dinner Saturday night! Camping is an extra charge of $25/night See Knight’s Branch Farm website for details and book your spot! You can even book extra time in the obstacle arena on Sunday if you want to practice on your own. See Knight’s Branch Farm website for more info. \n  \n  \n			\n			\n				\n				\n				\n				\n			\n				\n				\n				\n				\n				\n				\n				\n				\n				\n				\n				Meet your clinician!\n			\n				\n				\n				\n				\n				\n					\n					\n						Amie Perryman\n						\nFrom my first summer taking lessons from a wonderful Saddleseat trainer in WV to having worked and lived with a US bronze team member and traveling to Portugal to live and work under a 3 time world champion of the sport I have grown to love\, Working Equitation\, I strive to embrace the best of each discipline and get the most out of our beloved partners and my students in their chosen sport! \n\nAmie is ‘classically’ trained but describes her methods as ‘practical’ or ‘applied’ dressage. There is more to training that what you can read in a book or observe in a video. Amie helps to break down training methods used in all disciplines and helps each rider/horse combination try and apply what works for them AT THAT moment in their training journey. \nAmie holds a BS degree in Equine Science from Salem Teikyo University\, a Riding Master V from Meredith Manor International School of Equestrian Studies (RIP Ron Meredith) and has trained under some of the world’s best in dressage\, eventing and working equitation. \n					\n				\n			\n			\n				\n				\n				\n				\n				\n				\n				\n				\n				\n				Your Venue!\n\n  \n			\n				\n				\n				\n				\n				Knights Branch Farm is conveniently situated next to Sandy Point State Forest in King William County\, Virginia. \nCome for the whole weekend\, ride the forest’s 11.5 miles of trails straight from our farm! \nCAMPING AVAILABLE! \n			\n				\n				\n				\n				\n				\n			\n				\n				\n				\n				\n				\n			\n				\n				\n				\n				\n				Stephanie is a VERY popular clinician so book early!
URL:https://workingequitationva.com/event/we-clinic-with-stephanie-jennings-may-27/
LOCATION:Knight’s Branch Farm\, 639 Sandy Point Road\, West Point\, VA\, 23181\, United States
CATEGORIES:Clinic
ATTACH;FMTTYPE=image/jpeg:https://workingequitationva.com/wp-content/uploads/2023/02/Stephanie-Jennings-Dressage.jpg
ORGANIZER;CN="WESEVA":MAILTO:amie@workingequitationva.com
END:VEVENT
BEGIN:VEVENT
DTSTART;TZID=America/New_York:20230506T100000
DTEND;TZID=America/New_York:20230506T140000
DTSTAMP:20260423T081844
CREATED:20230430T112804Z
LAST-MODIFIED:20230430T112808Z
UID:1087301-1683367200-1683381600@workingequitationva.com
SUMMARY:Obstacle Play Day Saturday May 6
DESCRIPTION:Obstacle Play Days\n			\n				\n				\n				\n				\n				Come join us for some guided practice time with USAWE regulation obstacles and dressage arena! \nThe Horse Park at Gryphon Run has a full range of obstacles available and we’re excited to join with Amy Geuy inviting you to bring your horse and spend some low key time working through some or all of them! Amie Perryman\, USAWE “L” judge candidate will be available to help answer questions regarding the rules of execution\, competition and coaching if needed! You are welcome to bring your friends and even your trainer. All breeds and disciplines are welcome in Working Equitation!  \nIf you want to ride a test\, we can also schedule a time to practice your USAWE test! We are looking forward to bringing many more events like this as well as clinics and schooling shows to the Southeastern VA region! \n  \n			\n			\n				\n				\n				\n				\n			\n				\n				\n			\n				\n				\n				\n				\n				\n				\n				\n				\n				\n				\n				\n				\n				\n				\n				\n				\n				\n				\n				\n				\n					\n                \n				\n				\n				\n				\n				\n				\n				\n					\n				\n				\n				\n              Pen And Rounding Posts  \n			\n				\n			\n				\n				\n				\n				\n				\n				\n				\n					\n				\n				\n				\n              Gate and Jump  \n			\n				\n			\n				\n				\n				\n				\n				\n				\n				\n					\n				\n				\n				\n              Bell Corridor  \n			\n				\n			\n				\n				\n				\n				\n				\n				\n				\n					\n				\n				\n				\n              Single Slolam  \n			\n				\n			\n				\n				\n				\n				\n				\n				\n				\n					\n				\n				\n				\n              Barrels and Sidepass Poles  \n			\n				\n			\n				\n				\n				\n				\n				\n				\n				\n					\n				\n				\n				\n              Bull
URL:https://workingequitationva.com/event/we-play-da-may-6/
LOCATION:VA
CATEGORIES:Obstacle Play Day
ATTACH;FMTTYPE=image/jpeg:https://workingequitationva.com/wp-content/uploads/2023/04/bull.jpg
ORGANIZER;CN="WESEVA":MAILTO:amie@workingequitationva.com
END:VEVENT
BEGIN:VEVENT
DTSTART;TZID=America/New_York:20230430T120000
DTEND;TZID=America/New_York:20230430T160000
DTSTAMP:20260423T081844
CREATED:20230424T214626Z
LAST-MODIFIED:20230430T113444Z
UID:1087273-1682856000-1682870400@workingequitationva.com
SUMMARY:Obstacle Play Day April 30
DESCRIPTION:Obstacle Play Days\n			\n				\n				\n				\n				\n				Come join us for some guided practice time with USAWE regulation obstacles and dressage arena! \nThe Horse Park at Gryphon Run has a full range of obstacles available and we’re excited to join with Amy Geuy inviting you to bring your horse and spend some low key time working through some or all of them! Amie Perryman\, USAWE “L” judge candidate will be available to help answer questions regarding the rules of execution\, competition and coaching if needed! You are welcome to bring your friends and even your trainer. All breeds and disciplines are welcome in Working Equitation!  \nIf you want to ride a test\, we can also schedule a time to practice your USAWE test! We are looking forward to bringing many more events like this as well as clinics and schooling shows to the Southeastern VA region! \n  \n			\n			\n				\n				\n				\n				\n			\n				\n				\n			\n				\n				\n				\n				\n				\n				\n				\n				\n				\n				\n				\n				\n				\n				\n				\n				\n				\n				\n				\n				\n					\n                \n				\n				\n				\n				\n				\n				\n				\n					\n				\n				\n				\n              Pen And Rounding Posts  \n			\n				\n			\n				\n				\n				\n				\n				\n				\n				\n					\n				\n				\n				\n              Gate and Jump  \n			\n				\n			\n				\n				\n				\n				\n				\n				\n				\n					\n				\n				\n				\n              Bell Corridor  \n			\n				\n			\n				\n				\n				\n				\n				\n				\n				\n					\n				\n				\n				\n              Single Slolam  \n			\n				\n			\n				\n				\n				\n				\n				\n				\n				\n					\n				\n				\n				\n              Barrels and Sidepass Poles  \n			\n				\n			\n				\n				\n				\n				\n				\n				\n				\n					\n				\n				\n				\n              Bull
URL:https://workingequitationva.com/event/obstacle-play-day-april-30/
LOCATION:The Horse Park at Gryphon Run\, 2520 Number Ten Lane\, Chesapeake\, VA\, 23323\, United States
ATTACH;FMTTYPE=image/jpeg:https://workingequitationva.com/wp-content/uploads/2023/04/bull.jpg
ORGANIZER;CN="WESEVA":MAILTO:amie@workingequitationva.com
END:VEVENT
END:VCALENDAR