BEGIN:VCALENDAR
VERSION:2.0
PRODID:-//Working Equitation  Southeast VA - ECPv6.15.20//NONSGML v1.0//EN
CALSCALE:GREGORIAN
METHOD:PUBLISH
X-WR-CALNAME:Working Equitation  Southeast VA
X-ORIGINAL-URL:https://workingequitationva.com
X-WR-CALDESC:Events for Working Equitation  Southeast VA
REFRESH-INTERVAL;VALUE=DURATION:PT1H
X-Robots-Tag:noindex
X-PUBLISHED-TTL:PT1H
BEGIN:VTIMEZONE
TZID:America/New_York
BEGIN:DAYLIGHT
TZOFFSETFROM:-0500
TZOFFSETTO:-0400
TZNAME:EDT
DTSTART:20230312T070000
END:DAYLIGHT
BEGIN:STANDARD
TZOFFSETFROM:-0400
TZOFFSETTO:-0500
TZNAME:EST
DTSTART:20231105T060000
END:STANDARD
BEGIN:DAYLIGHT
TZOFFSETFROM:-0500
TZOFFSETTO:-0400
TZNAME:EDT
DTSTART:20240310T070000
END:DAYLIGHT
BEGIN:STANDARD
TZOFFSETFROM:-0400
TZOFFSETTO:-0500
TZNAME:EST
DTSTART:20241103T060000
END:STANDARD
BEGIN:DAYLIGHT
TZOFFSETFROM:-0500
TZOFFSETTO:-0400
TZNAME:EDT
DTSTART:20250309T070000
END:DAYLIGHT
BEGIN:STANDARD
TZOFFSETFROM:-0400
TZOFFSETTO:-0500
TZNAME:EST
DTSTART:20251102T060000
END:STANDARD
END:VTIMEZONE
BEGIN:VEVENT
DTSTART;TZID=America/New_York:20240204T090000
DTEND;TZID=America/New_York:20240215T170000
DTSTAMP:20260425T153457
CREATED:20240114T142232Z
LAST-MODIFIED:20240516T185744Z
UID:1087750-1707037200-1708016400@workingequitationva.com
SUMMARY:Feb 4 Schooling Show
DESCRIPTION:  \nEntries closed.\n			\n				\n				\n				\n				\n				\n					\n					\n						Follow link below to see USAWE rules and dressage tests\n						https://usawe.org/competitions/rules/
URL:https://workingequitationva.com/event/working-equitation-southeastern-virginia-schooling-show-series-and-clinic/
LOCATION:The Horse Park at Gryphon Run\, 2520 Number Ten Lane\, Chesapeake\, VA\, 23323\, United States
CATEGORIES:Clinic,Schooling Show
ORGANIZER;CN="WESEVA":MAILTO:amie@workingequitationva.com
END:VEVENT
END:VCALENDAR