BEGIN:VCALENDAR
VERSION:2.0
PRODID:-//Working Equitation  Southeast VA - ECPv6.15.20//NONSGML v1.0//EN
CALSCALE:GREGORIAN
METHOD:PUBLISH
X-ORIGINAL-URL:https://workingequitationva.com
X-WR-CALDESC:Events for Working Equitation  Southeast VA
REFRESH-INTERVAL;VALUE=DURATION:PT1H
X-Robots-Tag:noindex
X-PUBLISHED-TTL:PT1H
BEGIN:VTIMEZONE
TZID:America/New_York
BEGIN:DAYLIGHT
TZOFFSETFROM:-0500
TZOFFSETTO:-0400
TZNAME:EDT
DTSTART:20220313T070000
END:DAYLIGHT
BEGIN:STANDARD
TZOFFSETFROM:-0400
TZOFFSETTO:-0500
TZNAME:EST
DTSTART:20221106T060000
END:STANDARD
BEGIN:DAYLIGHT
TZOFFSETFROM:-0500
TZOFFSETTO:-0400
TZNAME:EDT
DTSTART:20230312T070000
END:DAYLIGHT
BEGIN:STANDARD
TZOFFSETFROM:-0400
TZOFFSETTO:-0500
TZNAME:EST
DTSTART:20231105T060000
END:STANDARD
BEGIN:DAYLIGHT
TZOFFSETFROM:-0500
TZOFFSETTO:-0400
TZNAME:EDT
DTSTART:20240310T070000
END:DAYLIGHT
BEGIN:STANDARD
TZOFFSETFROM:-0400
TZOFFSETTO:-0500
TZNAME:EST
DTSTART:20241103T060000
END:STANDARD
END:VTIMEZONE
BEGIN:VEVENT
DTSTART;TZID=America/New_York:20231209T080000
DTEND;TZID=America/New_York:20231209T130000
DTSTAMP:20260425T205718
CREATED:20231204T162739Z
LAST-MODIFIED:20231204T204630Z
UID:1087724-1702108800-1702126800@workingequitationva.com
SUMMARY:Dressage with Purpose Clinic with Richard Williams
DESCRIPTION:Dressage with Purpose\n			\n				\n				\n				\n				\n				Learn to ride your horse in a classical dressage methodology and develop yourself and your horse’s ability to work together with purpose. \n			\n			\n				\n				\n				\n				\n			\n				\n				\n			\n				\n				\n				\n				\n				\n				\n				\n				\n				\n				\n				\n				\n				\n				\n				\n				\n				\n				This week\, we are delighted to bring back Richard Williams for the morning as he gives private dressage lessons that will help develop skills to be applied to our afternoon of Working Equitation Obstacles! If you want to ride a test\, we can also schedule a time to practice your USAWE test! We are looking forward to bringing many more events like this as well as clinics and schooling shows to the Southeastern VA region! \nThis date is full but you can PM or email to get on a list!  \n			\n			\n				\n				\n				\n				\n				\n				\n				\n				\n				\n				\n			\n				\n				\n				\n				\n				USAWE DRESSAGE TESTS \n			\n			\n				\n				\n				\n				\n			\n				\n				\n			\n				\n				\n				\n				\n				\n				\n				\n				\n				\n				\n				\n				\n				\n				\n				\n				\n				\n				\n				\n				\n					\n                \n				\n				\n				\n				\n				\n				\n				\n					\n				\n				\n				\n              Pen And Rounding Posts  \n			\n				\n			\n				\n				\n				\n				\n				\n				\n				\n					\n				\n				\n				\n              Gate and Jump  \n			\n				\n			\n				\n				\n				\n				\n				\n				\n				\n					\n				\n				\n				\n              Bell Corridor  \n			\n				\n			\n				\n				\n				\n				\n				\n				\n				\n					\n				\n				\n				\n              Single Slolam  \n			\n				\n			\n				\n				\n				\n				\n				\n				\n				\n					\n				\n				\n				\n              Barrels and Sidepass Poles  \n			\n				\n			\n				\n				\n				\n				\n				\n				\n				\n					\n				\n				\n				\n              Bull
URL:https://workingequitationva.com/event/dressage-with-purpose-clinic-with-richard-williams/
LOCATION:VA
CATEGORIES:Clinic
END:VEVENT
END:VCALENDAR