BEGIN:VCALENDAR
VERSION:2.0
PRODID:-//Working Equitation  Southeast VA - ECPv6.15.20//NONSGML v1.0//EN
CALSCALE:GREGORIAN
METHOD:PUBLISH
X-ORIGINAL-URL:https://workingequitationva.com
X-WR-CALDESC:Events for Working Equitation  Southeast VA
REFRESH-INTERVAL;VALUE=DURATION:PT1H
X-Robots-Tag:noindex
X-PUBLISHED-TTL:PT1H
BEGIN:VTIMEZONE
TZID:America/New_York
BEGIN:DAYLIGHT
TZOFFSETFROM:-0500
TZOFFSETTO:-0400
TZNAME:EDT
DTSTART:20220313T070000
END:DAYLIGHT
BEGIN:STANDARD
TZOFFSETFROM:-0400
TZOFFSETTO:-0500
TZNAME:EST
DTSTART:20221106T060000
END:STANDARD
BEGIN:DAYLIGHT
TZOFFSETFROM:-0500
TZOFFSETTO:-0400
TZNAME:EDT
DTSTART:20230312T070000
END:DAYLIGHT
BEGIN:STANDARD
TZOFFSETFROM:-0400
TZOFFSETTO:-0500
TZNAME:EST
DTSTART:20231105T060000
END:STANDARD
BEGIN:DAYLIGHT
TZOFFSETFROM:-0500
TZOFFSETTO:-0400
TZNAME:EDT
DTSTART:20240310T070000
END:DAYLIGHT
BEGIN:STANDARD
TZOFFSETFROM:-0400
TZOFFSETTO:-0500
TZNAME:EST
DTSTART:20241103T060000
END:STANDARD
END:VTIMEZONE
BEGIN:VEVENT
DTSTART;TZID=America/New_York:20231202T080000
DTEND;TZID=America/New_York:20231202T170000
DTSTAMP:20260425T222718
CREATED:20231109T163827Z
LAST-MODIFIED:20231130T232424Z
UID:1087695-1701504000-1701536400@workingequitationva.com
SUMMARY:Dec 2 Schooling Show
DESCRIPTION:  \nEntries closed. We're holding this event every month on the first Saturday! Email amie@workingequitationva.com if you want to get on a wait list for this event or if you'd like to volunteer!\n			\n				\n				\n				\n				\n				\n					\n					\n						Follow link below to see USAWE rules and dressage tests\n						https://usawe.org/competitions/rules/
URL:https://workingequitationva.com/event/dec-schooling-show/
LOCATION:The Horse Park at Gryphon Run\, 2520 Number Ten Lane\, Chesapeake\, VA\, 23323\, United States
CATEGORIES:Schooling Show
ORGANIZER;CN="WESEVA":MAILTO:amie@workingequitationva.com
END:VEVENT
END:VCALENDAR